BEGIN:VCALENDAR
VERSION:2.0
PRODID:-//Ecole de danse Origin Swing - ECPv6.15.20//NONSGML v1.0//EN
CALSCALE:GREGORIAN
METHOD:PUBLISH
X-WR-CALNAME:Ecole de danse Origin Swing
X-ORIGINAL-URL:https://originswing.fr
X-WR-CALDESC:Évènements pour Ecole de danse Origin Swing
REFRESH-INTERVAL;VALUE=DURATION:PT1H
X-Robots-Tag:noindex
X-PUBLISHED-TTL:PT1H
BEGIN:VTIMEZONE
TZID:UTC
BEGIN:STANDARD
TZOFFSETFROM:+0000
TZOFFSETTO:+0000
TZNAME:UTC
DTSTART:20240101T000000
END:STANDARD
END:VTIMEZONE
BEGIN:VEVENT
DTSTART;TZID=UTC:20250909T190000
DTEND;TZID=UTC:20250916T220000
DTSTAMP:20260421T130600
CREATED:20250515T125552Z
LAST-MODIFIED:20251219T094254Z
UID:244961-1757444400-1758060000@originswing.fr
SUMMARY:Portes Ouvertes gratuites - 9 au 16 septembre 2025
DESCRIPTION:Je m'inscris\nCurieux\, débutant ou danseur confirmé ? Profitez de nos portes ouvertes  du 9 au 16 septembre 2025 pour tester gratuitement nos cours\, rencontrer les profs et ressentir l’ambiance unique d’Origin Swing. \nVenez seul(e) ou accompagné(e) – tout le monde est le bienvenu ! Nos professeurs seront là pour vous guider et vous faire découvrir les bases de cette danse accessible et conviviale. C’est l’occasion parfaite de tester\, d’apprendre et surtout de s’amuser ! \nMardi - West Coast Swing\nDébutant : 19H - 20H \nIntermédiaire : 20H - 21H \nInter/Avancé : 19H - 20H \n⚠️ Cours non accessibles à l’essaiSeuls deux cours ne pourront pas être testés pendant les portes ouvertes : \nAvancé : 20H - 21H \nExpert : 21H - 22H \n \nMercredi - Lindy Hop / Boogie / Solo Jazz\nLindy/Boogie : Débutant : 19H - 20H \nSolo Jazz : Tous niveaux : 20H - 21H \nLindy/Boogie : Inter/avancé : 21H - 22H \n \nInformations pratiques\n\nAdresse : 4 rue des Alouettes\, 69800 Saint-Priest\nParking : 80 places disponibles autour et en face de l'école\nAccès : Facilement accessible en voiture et en transports en commun
URL:https://originswing.fr/evenement/portes-ouvertes-septembre/
LOCATION:Origin Swing\, 4 rue des alouettes\, Saint-Priest\, 69800\, France
CATEGORIES:Portes Ouvertes
ATTACH;FMTTYPE=image/png:https://originswing.fr/wp-content/uploads/2025/05/cours-expert-5-scaled.png
ORGANIZER;CN="Origin Swing":MAILTO:contact@originswing.fr
END:VEVENT
END:VCALENDAR